BEGIN:VCALENDAR
VERSION:2.0
PRODID:-//FRANKENWOLLE - ECPv6.15.20//NONSGML v1.0//EN
CALSCALE:GREGORIAN
METHOD:PUBLISH
X-ORIGINAL-URL:https://franken-wolle.de
X-WR-CALDESC:Veranstaltungen für FRANKENWOLLE
REFRESH-INTERVAL;VALUE=DURATION:PT1H
X-Robots-Tag:noindex
X-PUBLISHED-TTL:PT1H
BEGIN:VTIMEZONE
TZID:UTC
BEGIN:STANDARD
TZOFFSETFROM:+0000
TZOFFSETTO:+0000
TZNAME:UTC
DTSTART:20250101T000000
END:STANDARD
END:VTIMEZONE
BEGIN:VEVENT
DTSTART;TZID=UTC:20260913T110000
DTEND;TZID=UTC:20260913T160000
DTSTAMP:20260420T113835
CREATED:20251203T102650Z
LAST-MODIFIED:20260417T085230Z
UID:2222-1789297200-1789315200@franken-wolle.de
SUMMARY:Das Bunte Schaf 2026
DESCRIPTION:Leider findet der Markt nicht mehr statt. \nWir trauern um das Bunte Schaf und behalten diesen besonderen Markt in schöner und dankbarer Erinnerung.
URL:https://franken-wolle.de/event/das-bunte-schaf-2026/
LOCATION:Treibhaus in Langenfeld\, Auf den Heunen 39\, Langenfeld\, 40764
ATTACH;FMTTYPE=image/png:https://franken-wolle.de/wp-content/uploads/2025/12/DasBunteSchaf_2-scaled.png
END:VEVENT
END:VCALENDAR