BEGIN:VCALENDAR
VERSION:2.0
PRODID:-//FRANKENWOLLE - ECPv6.15.20//NONSGML v1.0//EN
CALSCALE:GREGORIAN
METHOD:PUBLISH
X-WR-CALNAME:FRANKENWOLLE
X-ORIGINAL-URL:https://franken-wolle.de
X-WR-CALDESC:Veranstaltungen für FRANKENWOLLE
REFRESH-INTERVAL;VALUE=DURATION:PT1H
X-Robots-Tag:noindex
X-PUBLISHED-TTL:PT1H
BEGIN:VTIMEZONE
TZID:UTC
BEGIN:STANDARD
TZOFFSETFROM:+0000
TZOFFSETTO:+0000
TZNAME:UTC
DTSTART:20240101T000000
END:STANDARD
END:VTIMEZONE
BEGIN:VEVENT
DTSTART;TZID=UTC:20250104T100000
DTEND;TZID=UTC:20250105T160000
DTSTAMP:20260421T160413
CREATED:20240910T091422Z
LAST-MODIFIED:20240910T091422Z
UID:1724-1735984800-1736092800@franken-wolle.de
SUMMARY:Wolle Festival Berlin
DESCRIPTION:Entdecke eine große Auswahl an Wolle\, Strickhilfen sowie Häkelzubehör und verbringe deine Zeit mit Gleichgesinnten. Auf dem Wolle Festival kannst du stöbern\, entdecken\, dich informieren\, selbst mitmachen\, fachsimpeln\, Ideen finden und shoppen.
URL:https://franken-wolle.de/event/wolle-festival-berlin/
LOCATION:Tegeler Seeterrassen\, Wilkestraße 1\, Berlin\, 13507
ATTACH;FMTTYPE=image/png:https://franken-wolle.de/wp-content/uploads/2024/03/logo-Kopie.png
END:VEVENT
BEGIN:VEVENT
DTSTART;TZID=UTC:20250109T100000
DTEND;TZID=UTC:20250112T160000
DTSTAMP:20260421T160413
CREATED:20240910T091858Z
LAST-MODIFIED:20240910T093254Z
UID:1728-1736416800-1736697600@franken-wolle.de
SUMMARY:Handwerkbeurs Houten 2025 (NL)
DESCRIPTION:Die Messe Handwerkbeurs Houten ist eine Handarbeitsmesse für textile Hobbys. Zahlreiche Aussteller aus dem In- und Ausland präsentieren sich auf der Handwerk Beurs Houten mit einer breiten Angebotspalette an Materialien\, Dienstleistungen und Techniken rund um das textile Handwerk.
URL:https://franken-wolle.de/event/handwerkbeurs-houten-2025/
LOCATION:Expo Houten\, Meidoornkade 24\, AE Houten\, 3992\, Netherlands
ATTACH;FMTTYPE=image/png:https://franken-wolle.de/wp-content/uploads/2024/09/Handwerkbeurs-1.png
END:VEVENT
END:VCALENDAR