BEGIN:VCALENDAR
VERSION:2.0
PRODID:-//FRANKENWOLLE - ECPv6.15.20//NONSGML v1.0//EN
CALSCALE:GREGORIAN
METHOD:PUBLISH
X-WR-CALNAME:FRANKENWOLLE
X-ORIGINAL-URL:https://franken-wolle.de
X-WR-CALDESC:Veranstaltungen für FRANKENWOLLE
REFRESH-INTERVAL;VALUE=DURATION:PT1H
X-Robots-Tag:noindex
X-PUBLISHED-TTL:PT1H
BEGIN:VTIMEZONE
TZID:UTC
BEGIN:STANDARD
TZOFFSETFROM:+0000
TZOFFSETTO:+0000
TZNAME:UTC
DTSTART:20230101T000000
END:STANDARD
END:VTIMEZONE
BEGIN:VEVENT
DTSTART;TZID=UTC:20241114T100000
DTEND;TZID=UTC:20241116T170000
DTSTAMP:20260421T193601
CREATED:20240910T090458Z
LAST-MODIFIED:20240923T083321Z
UID:1719-1731578400-1731776400@franken-wolle.de
SUMMARY:Handwerkbeurs Groningen (NL)
DESCRIPTION:Auf der Handwerkbeurs im niederländischen Groningen dreht sich alles um das Textilhandwerk wie Stricken\, Häkeln\, Quilten\, Filzen\, DIY-Mode und alles Weitere was mit Textilien zu tun hat.
URL:https://franken-wolle.de/event/handwerkbeurs-2024-groningen/
LOCATION:Martiniplaza\, Leonard Springerlaan 2\, KB Groningen\, 9727\, Netherlands
ATTACH;FMTTYPE=image/png:https://franken-wolle.de/wp-content/uploads/2024/09/Handwerkbeurs-1.png
END:VEVENT
BEGIN:VEVENT
DTSTART;TZID=UTC:20241116T140000
DTEND;TZID=UTC:20241117T140000
DTSTAMP:20260421T193602
CREATED:20240928T110547Z
LAST-MODIFIED:20240928T110743Z
UID:1744-1731765600-1731852000@franken-wolle.de
SUMMARY:Martinimarkt Frensdorf 2024
DESCRIPTION:Das Bauernmuseum Bamberger Land und die Soroptimistinnen vom Club Bamberg Kunigunde laden am Samstag und Sonntag\, 16./17. November 2024 – bereits zum vierten Mal – wieder zu einem gemeinsamen Martinimarkt nach Frensdorf ein. Für den handwerklichen Bedarf werden Handstrickgarn aus heimischer Wolle angeboten.
URL:https://franken-wolle.de/event/martinimarkt-frensdorf-2024/
LOCATION:Bauernmuseum Bamberger Land\, Hauptstraße 3\, Frensdorf\, 96158
ATTACH;FMTTYPE=image/png:https://franken-wolle.de/wp-content/uploads/2024/09/Logo_martinimarkt_frensdorf.png
END:VEVENT
BEGIN:VEVENT
DTSTART;TZID=UTC:20241130T080000
DTEND;TZID=UTC:20241201T170000
DTSTAMP:20260421T193602
CREATED:20240308T113802Z
LAST-MODIFIED:20240308T113918Z
UID:873-1732953600-1733072400@franken-wolle.de
SUMMARY:Munich Knits
DESCRIPTION:Neben dem internationalen Wollmarkt mit sorgfältig ausgewählten Handfärbern\, Industrie- und Markengarnen\, lokalen und regionalen Produzenten und vielen Strickaccessoires gibt es ein kuratiertes Workshop Programm mit bekannten Strickdesignern und ein  Unterhaltungsprogramm in der Strickbox am Sonntag.
URL:https://franken-wolle.de/event/munich-knits/
LOCATION:Fat Cat Kulturzentrum\, ehemaligen Gasteig München\, Rosenheimer Str. 5\, München\, 81667
ATTACH;FMTTYPE=image/png:https://franken-wolle.de/wp-content/uploads/2024/03/Munich-Knits.png
END:VEVENT
END:VCALENDAR