BEGIN:VCALENDAR
VERSION:2.0
PRODID:-//FRANKENWOLLE - ECPv6.15.20//NONSGML v1.0//EN
CALSCALE:GREGORIAN
METHOD:PUBLISH
X-ORIGINAL-URL:https://franken-wolle.de
X-WR-CALDESC:Veranstaltungen für FRANKENWOLLE
REFRESH-INTERVAL;VALUE=DURATION:PT1H
X-Robots-Tag:noindex
X-PUBLISHED-TTL:PT1H
BEGIN:VTIMEZONE
TZID:UTC
BEGIN:STANDARD
TZOFFSETFROM:+0000
TZOFFSETTO:+0000
TZNAME:UTC
DTSTART:20230101T000000
END:STANDARD
END:VTIMEZONE
BEGIN:VEVENT
DTSTART;TZID=UTC:20240803T110000
DTEND;TZID=UTC:20240804T170000
DTSTAMP:20260422T005438
CREATED:20240308T105654Z
LAST-MODIFIED:20240308T114132Z
UID:849-1722682800-1722790800@franken-wolle.de
SUMMARY:Sulinger Wollefest
DESCRIPTION:Kommt\, und lasst es Euch gut gehen !! Beschenkt Euch mit allem rund um das Thema ” Wolle “\, bestaunt die Vielzahl an Färbungen\, an unterschiedlichen Garnen\, und genießt das Zusammensein mit Gleichgesinnten !!
URL:https://franken-wolle.de/event/sulinger-wollefest/
LOCATION:Cafe am Stadtsee\, Kurze Heide 19\, Sulingen\, 27232
ATTACH;FMTTYPE=image/png:https://franken-wolle.de/wp-content/uploads/2024/03/Sulinger-Wollfest.png
END:VEVENT
BEGIN:VEVENT
DTSTART;TZID=UTC:20240810T080000
DTEND;TZID=UTC:20240810T080000
DTSTAMP:20260422T005438
CREATED:20240308T110727Z
LAST-MODIFIED:20240308T114032Z
UID:853-1723276800-1723276800@franken-wolle.de
SUMMARY:Wolle Festival in Hannover
DESCRIPTION:Wolle\, Stricken\, Häkeln und alles was dazugehört! Es ist die besonders herzliche Atmosphäre und das Gefühl von Authentizität\, womit unsere Wolle Festivals begeistern.
URL:https://franken-wolle.de/event/wollmarkt-weilheim-3/
LOCATION:HCC Hannover Congress Centrum\, Theodor-Heuss-Platz 1-3\, Hannover\, 30175
ATTACH;FMTTYPE=image/png:https://franken-wolle.de/wp-content/uploads/2024/03/logo-Kopie.png
END:VEVENT
BEGIN:VEVENT
DTSTART;TZID=UTC:20240831T100000
DTEND;TZID=UTC:20240901T163000
DTSTAMP:20260422T005438
CREATED:20240523T081344Z
LAST-MODIFIED:20240523T081344Z
UID:1659-1725098400-1725208200@franken-wolle.de
SUMMARY:Wollcraft Festival Monsheim
DESCRIPTION:Ein neues Wollfest im Dreiländer Eck zwischen Rheinland-Pfalz\, Hessen und Baden-Württemberg erblickt das Licht der Welt. Am 31. August und 01. September 2024 öffnen sich die Tore des Wollcraft-Festivals zu einer bunten Welt voller Wolle und allem\, was dazu gehört.
URL:https://franken-wolle.de/event/wollcraft-festival-monsheim/
LOCATION:Rheinhessenhalle\, Gerd-Heinz-Schilling-Straße 1\, Monsheim\, 67590
ATTACH;FMTTYPE=image/webp:https://franken-wolle.de/wp-content/uploads/2024/05/Wollcraft-Festival.webp
END:VEVENT
END:VCALENDAR