BEGIN:VCALENDAR
VERSION:2.0
PRODID:-//FRANKENWOLLE - ECPv6.15.20//NONSGML v1.0//EN
CALSCALE:GREGORIAN
METHOD:PUBLISH
X-WR-CALNAME:FRANKENWOLLE
X-ORIGINAL-URL:https://franken-wolle.de
X-WR-CALDESC:Veranstaltungen für FRANKENWOLLE
REFRESH-INTERVAL;VALUE=DURATION:PT1H
X-Robots-Tag:noindex
X-PUBLISHED-TTL:PT1H
BEGIN:VTIMEZONE
TZID:UTC
BEGIN:STANDARD
TZOFFSETFROM:+0000
TZOFFSETTO:+0000
TZNAME:UTC
DTSTART:20230101T000000
END:STANDARD
END:VTIMEZONE
BEGIN:VEVENT
DTSTART;TZID=UTC:20240308T080000
DTEND;TZID=UTC:20240310T170000
DTSTAMP:20260422T093821
CREATED:20240308T111722Z
LAST-MODIFIED:20240308T114221Z
UID:830-1709884800-1710090000@franken-wolle.de
SUMMARY:CREATIVMESSE in Augsburg (ehem. München!)
DESCRIPTION:Material\, Workshops\, Inspiration – auf der CREATIVMESSE treffen sich DIY-Fans und kreative Köpfe.
URL:https://franken-wolle.de/event/creativmesse-in-augsburg-ehem-muenchen/
LOCATION:Messe Augsburg\, Am Messezentrum 5\, Augsburg\, 86159
ATTACH;FMTTYPE=image/png:https://franken-wolle.de/wp-content/uploads/2024/03/logo_creativmesse-1.png
END:VEVENT
BEGIN:VEVENT
DTSTART;TZID=UTC:20240322T080000
DTEND;TZID=UTC:20240324T170000
DTSTAMP:20260422T093821
CREATED:20240304T200710Z
LAST-MODIFIED:20240308T114240Z
UID:835-1711094400-1711299600@franken-wolle.de
SUMMARY:H+H Cologne Köln (nur Besucher!)
DESCRIPTION:Die international führende Fachmesse für Handarbeit & Hobby
URL:https://franken-wolle.de/event/hh-cologne-koeln-nur-besucher/
LOCATION:h+h cologne\, Messeplatz 1\, Köln\, 51063
ATTACH;FMTTYPE=image/png:https://franken-wolle.de/wp-content/uploads/2024/03/hh_logo_4c.png
END:VEVENT
END:VCALENDAR