BEGIN:VCALENDAR
VERSION:2.0
PRODID:-//FRANKENWOLLE - ECPv6.15.20//NONSGML v1.0//EN
CALSCALE:GREGORIAN
METHOD:PUBLISH
X-WR-CALNAME:FRANKENWOLLE
X-ORIGINAL-URL:https://franken-wolle.de
X-WR-CALDESC:Veranstaltungen für FRANKENWOLLE
REFRESH-INTERVAL;VALUE=DURATION:PT1H
X-Robots-Tag:noindex
X-PUBLISHED-TTL:PT1H
BEGIN:VTIMEZONE
TZID:UTC
BEGIN:STANDARD
TZOFFSETFROM:+0000
TZOFFSETTO:+0000
TZNAME:UTC
DTSTART:20240101T000000
END:STANDARD
END:VTIMEZONE
BEGIN:VEVENT
DTSTART;TZID=UTC:20250517T100000
DTEND;TZID=UTC:20250517T170000
DTSTAMP:20260421T112551
CREATED:20241119T145842Z
LAST-MODIFIED:20250117T093803Z
UID:1953-1747476000-1747501200@franken-wolle.de
SUMMARY:Joure onder de Wol (NL\, Friesland)
DESCRIPTION:Wollmarkt und Wollfest in Joure (NL\, Friesland)
URL:https://franken-wolle.de/event/joure-onder-de-wol/
LOCATION:Stadtmitte (Midstraat)\, Stadtmitte (Midstraat)\, Joure\, Netherlands
ATTACH;FMTTYPE=image/png:https://franken-wolle.de/wp-content/uploads/2024/11/Joure-onder-de-Wol.png
END:VEVENT
END:VCALENDAR