BEGIN:VCALENDAR
VERSION:2.0
PRODID:-//FRANKENWOLLE - ECPv6.15.20//NONSGML v1.0//EN
CALSCALE:GREGORIAN
METHOD:PUBLISH
X-ORIGINAL-URL:https://franken-wolle.de
X-WR-CALDESC:Veranstaltungen für FRANKENWOLLE
REFRESH-INTERVAL;VALUE=DURATION:PT1H
X-Robots-Tag:noindex
X-PUBLISHED-TTL:PT1H
BEGIN:VTIMEZONE
TZID:UTC
BEGIN:STANDARD
TZOFFSETFROM:+0000
TZOFFSETTO:+0000
TZNAME:UTC
DTSTART:20230101T000000
END:STANDARD
END:VTIMEZONE
BEGIN:VEVENT
DTSTART;TZID=UTC:20241130T080000
DTEND;TZID=UTC:20241201T170000
DTSTAMP:20260421T194052
CREATED:20240308T113802Z
LAST-MODIFIED:20240308T113918Z
UID:873-1732953600-1733072400@franken-wolle.de
SUMMARY:Munich Knits
DESCRIPTION:Neben dem internationalen Wollmarkt mit sorgfältig ausgewählten Handfärbern\, Industrie- und Markengarnen\, lokalen und regionalen Produzenten und vielen Strickaccessoires gibt es ein kuratiertes Workshop Programm mit bekannten Strickdesignern und ein  Unterhaltungsprogramm in der Strickbox am Sonntag.
URL:https://franken-wolle.de/event/munich-knits/
LOCATION:Fat Cat Kulturzentrum\, ehemaligen Gasteig München\, Rosenheimer Str. 5\, München\, 81667
ATTACH;FMTTYPE=image/png:https://franken-wolle.de/wp-content/uploads/2024/03/Munich-Knits.png
END:VEVENT
END:VCALENDAR