BEGIN:VCALENDAR
VERSION:2.0
PRODID:-//FRANKENWOLLE - ECPv6.15.20//NONSGML v1.0//EN
CALSCALE:GREGORIAN
METHOD:PUBLISH
X-ORIGINAL-URL:https://franken-wolle.de
X-WR-CALDESC:Veranstaltungen für FRANKENWOLLE
REFRESH-INTERVAL;VALUE=DURATION:PT1H
X-Robots-Tag:noindex
X-PUBLISHED-TTL:PT1H
BEGIN:VTIMEZONE
TZID:UTC
BEGIN:STANDARD
TZOFFSETFROM:+0000
TZOFFSETTO:+0000
TZNAME:UTC
DTSTART:20230101T000000
END:STANDARD
END:VTIMEZONE
BEGIN:VEVENT
DTSTART;TZID=UTC:20240915T100000
DTEND;TZID=UTC:20240915T170000
DTSTAMP:20260422T005524
CREATED:20240308T112506Z
LAST-MODIFIED:20240910T092710Z
UID:865-1726394400-1726419600@franken-wolle.de
SUMMARY: Wollfestival “Ois um d’Woi”
DESCRIPTION:15.09.2019\, von 10-17 Uhr im  (94209) Regen am Sonntag\, 15. September 2019 von 10 bis 17 Uhr
URL:https://franken-wolle.de/event/wollfestival-ois-um-dwoi/
LOCATION:Niederbayerischen Landwirtschaftsmuseum\, Schulgasse 2\, Regen\, 94209
ATTACH;FMTTYPE=image/png:https://franken-wolle.de/wp-content/uploads/2024/03/Wollfestival.png
END:VEVENT
END:VCALENDAR