BEGIN:VCALENDAR
VERSION:2.0
PRODID:-//FRANKENWOLLE - ECPv6.15.20//NONSGML v1.0//EN
CALSCALE:GREGORIAN
METHOD:PUBLISH
X-WR-CALNAME:FRANKENWOLLE
X-ORIGINAL-URL:https://franken-wolle.de
X-WR-CALDESC:Veranstaltungen für FRANKENWOLLE
REFRESH-INTERVAL;VALUE=DURATION:PT1H
X-Robots-Tag:noindex
X-PUBLISHED-TTL:PT1H
BEGIN:VTIMEZONE
TZID:UTC
BEGIN:STANDARD
TZOFFSETFROM:+0000
TZOFFSETTO:+0000
TZNAME:UTC
DTSTART:20230101T000000
END:STANDARD
END:VTIMEZONE
BEGIN:VEVENT
DTSTART;TZID=UTC:20240803T110000
DTEND;TZID=UTC:20240804T170000
DTSTAMP:20260422T023850
CREATED:20240308T105654Z
LAST-MODIFIED:20240308T114132Z
UID:849-1722682800-1722790800@franken-wolle.de
SUMMARY:Sulinger Wollefest
DESCRIPTION:Kommt\, und lasst es Euch gut gehen !! Beschenkt Euch mit allem rund um das Thema ” Wolle “\, bestaunt die Vielzahl an Färbungen\, an unterschiedlichen Garnen\, und genießt das Zusammensein mit Gleichgesinnten !!
URL:https://franken-wolle.de/event/sulinger-wollefest/
LOCATION:Cafe am Stadtsee\, Kurze Heide 19\, Sulingen\, 27232
ATTACH;FMTTYPE=image/png:https://franken-wolle.de/wp-content/uploads/2024/03/Sulinger-Wollfest.png
END:VEVENT
END:VCALENDAR