BEGIN:VCALENDAR
VERSION:2.0
PRODID:-//FRANKENWOLLE - ECPv6.15.20//NONSGML v1.0//EN
CALSCALE:GREGORIAN
METHOD:PUBLISH
X-WR-CALNAME:FRANKENWOLLE
X-ORIGINAL-URL:https://franken-wolle.de
X-WR-CALDESC:Veranstaltungen für FRANKENWOLLE
REFRESH-INTERVAL;VALUE=DURATION:PT1H
X-Robots-Tag:noindex
X-PUBLISHED-TTL:PT1H
BEGIN:VTIMEZONE
TZID:UTC
BEGIN:STANDARD
TZOFFSETFROM:+0000
TZOFFSETTO:+0000
TZNAME:UTC
DTSTART:20230101T000000
END:STANDARD
END:VTIMEZONE
BEGIN:VEVENT
DTSTART;TZID=UTC:20240420T080000
DTEND;TZID=UTC:20240421T170000
DTSTAMP:20260422T093753
CREATED:20240308T105022Z
LAST-MODIFIED:20240308T114148Z
UID:846-1713600000-1713718800@franken-wolle.de
SUMMARY:Hohenloher Wollfest\, Blaufelden
DESCRIPTION:Es erwartet Sie ein einzigartiges außergewöhnliches Wollfest. Über 65 Aussteller werden Ihnen Fasern aller Art\, handgefärbte oder handbearbeitete Garne\, Nadeln\, Projekttaschen\, Spindel und Spinnräder und noch vieles mehr anbieten.
URL:https://franken-wolle.de/event/wollmarkt-weilheim-2/
LOCATION:Mehrzweckhalle\, Schulstr. 13\, Blaufelden\, 74572
ATTACH;FMTTYPE=image/png:https://franken-wolle.de/wp-content/uploads/2024/03/Wollfest-Logo-kl.png
END:VEVENT
END:VCALENDAR